BEGIN:VCALENDAR
VERSION:2.0
METHOD:PUBLISH
BEGIN:VEVENT
DTSTART:20181110T140000Z
DTEND:20181110T210000Z
LOCATION:New Paltz, NY 12561
TRANSP: OPAQUE
SEQUENCE:0
UID:
DTSTAMP:20260424T071812Z
SUMMARY:One Day Blowout Moving Sale in New Paltz Farmhouse
DESCRIPTION:One Day Blowout Moving Sale in New Paltz Farmhouse Stephanie's Storage Sale 
UID:1777036692
STREET-ADDRESS:See website
POSTAL-CODE:12561
LOCALITY:New Paltz
REGION:ABBREV=NY
COUNTRY:ABBREV=US;ABBREV=USA:United States
URL;TYPE=Event Listing:https://estatesales.org/estate-sales/ny/new-paltz/12561/one-day-blowout-moving-sale-1592487
PRIORITY:1
CLASS:PUBLIC
SEQUENCE:0
STATUS:CONFIRMED
TRANSP:OPAQUE
END:VEVENT
END:VCALENDAR
