BEGIN:VCALENDAR
VERSION:2.0
METHOD:PUBLISH
BEGIN:VEVENT
DTSTART:20171110T170000Z
DTEND:20171111T230000Z
LOCATION:Santa Rosa, CA 95409
TRANSP: OPAQUE
SEQUENCE:0
UID:
DTSTAMP:20260421T124126Z
SUMMARY:FUN, ECLECTIC SALE IN OAKMONT - by Susan Gardner
DESCRIPTION:FUN, ECLECTIC SALE IN OAKMONT - by Susan Gardner Susan Gardner Estate Sales 
UID:1776796886
STREET-ADDRESS:See website
POSTAL-CODE:95409
LOCALITY:Santa Rosa
REGION:ABBREV=CA
COUNTRY:ABBREV=US;ABBREV=USA:United States
URL;TYPE=Event Listing:https://estatesales.org/estate-sales/ca/santa-rosa/95409/fun-eclectic-sale-in-oakmont-1445073
PRIORITY:1
CLASS:PUBLIC
SEQUENCE:0
STATUS:CONFIRMED
TRANSP:OPAQUE
END:VEVENT
END:VCALENDAR
