BEGIN:VCALENDAR
VERSION:2.0
METHOD:PUBLISH
BEGIN:VEVENT
DTSTART:20181109T150000Z
DTEND:20181110T220000Z
LOCATION:Augusta, GA 30909
TRANSP: OPAQUE
SEQUENCE:0
UID:
DTSTAMP:20260420T021113Z
SUMMARY:Multi Estate Sale in Daniel Village Shopping Center Suite 9A
DESCRIPTION:Multi Estate Sale in Daniel Village Shopping Center Suite 9A Unique Antiques 
UID:1776672673
STREET-ADDRESS:See website
POSTAL-CODE:30909
LOCALITY:Augusta
REGION:ABBREV=GA
COUNTRY:ABBREV=US;ABBREV=USA:United States
URL;TYPE=Event Listing:https://estatesales.org/estate-sales/ga/augusta/30909/multi-estate-sale-in-daniel-1592661
PRIORITY:1
CLASS:PUBLIC
SEQUENCE:0
STATUS:CONFIRMED
TRANSP:OPAQUE
END:VEVENT
END:VCALENDAR
