BEGIN:VCALENDAR
VERSION:2.0
METHOD:PUBLISH
BEGIN:VEVENT
DTSTART:20181109T140000Z
DTEND:20181111T210000Z
LOCATION:Salisbury, NC 28144
TRANSP: OPAQUE
SEQUENCE:0
UID:
DTSTAMP:20260420T204638Z
SUMMARY:Huge Estate sale Antiques, Furniture,  glassware  vintage medical items
DESCRIPTION:Huge Estate sale Antiques, Furniture,  glassware  vintage medical items PARKER AUCTIONS 
UID:1776739598
STREET-ADDRESS:See website
POSTAL-CODE:28144
LOCALITY:Salisbury
REGION:ABBREV=NC
COUNTRY:ABBREV=US;ABBREV=USA:United States
URL;TYPE=Event Listing:https://estatesales.org/estate-sales/nc/salisbury/28144/huge-estate-sale-antiques-furniture-1586147
PRIORITY:1
CLASS:PUBLIC
SEQUENCE:0
STATUS:CONFIRMED
TRANSP:OPAQUE
END:VEVENT
END:VCALENDAR
