BEGIN:VCALENDAR
VERSION:2.0
METHOD:PUBLISH
BEGIN:VEVENT
DTSTART:20171110T012500Z
DTEND:20171115T023000Z
LOCATION:Fort Lauderdale, FL 33305
TRANSP: OPAQUE
SEQUENCE:0
UID:
DTSTAMP:20260423T090359Z
SUMMARY:Huge Online Estate Auction!
DESCRIPTION:Huge Online Estate Auction! Wilton Gallery 
UID:1776956639
STREET-ADDRESS:See website
POSTAL-CODE:33305
LOCALITY:Fort Lauderdale
REGION:ABBREV=FL
COUNTRY:ABBREV=US;ABBREV=USA:United States
URL;TYPE=Event Listing:https://estatesales.org/estate-sales/fl/fort-lauderdale/33305/huge-online-estate-auction-1445385
PRIORITY:1
CLASS:PUBLIC
SEQUENCE:0
STATUS:CONFIRMED
TRANSP:OPAQUE
END:VEVENT
END:VCALENDAR
