BEGIN:VCALENDAR
VERSION:2.0
METHOD:PUBLISH
BEGIN:VEVENT
DTSTART:20251108T170000Z
DTEND:20251108T230000Z
LOCATION:Arvada, CO 80003
TRANSP: OPAQUE
SEQUENCE:0
UID:
DTSTAMP:20260424T205550Z
SUMMARY:1-Day Holiday Gifting Bonanza!
DESCRIPTION:1-Day Holiday Gifting Bonanza! Caring Transitions North West Denver 
UID:1777085750
STREET-ADDRESS:See website
POSTAL-CODE:80003
LOCALITY:Arvada
REGION:ABBREV=CO
COUNTRY:ABBREV=US;ABBREV=USA:United States
URL;TYPE=Event Listing:https://estatesales.org/estate-sales/co/arvada/80003/1day-holiday-gifting-bonanza-2411619
PRIORITY:1
CLASS:PUBLIC
SEQUENCE:0
STATUS:CONFIRMED
TRANSP:OPAQUE
END:VEVENT
END:VCALENDAR
