BEGIN:VCALENDAR
VERSION:2.0
METHOD:PUBLISH
BEGIN:VEVENT
DTSTART:20251108T160000Z
DTEND:20251108T210000Z
LOCATION:Layton, UT 84040
TRANSP: OPAQUE
SEQUENCE:0
UID:
DTSTAMP:20260423T062912Z
SUMMARY:GREAT LIQUIDATION NEAR THE LAYTON TEMPLE!
DESCRIPTION:GREAT LIQUIDATION NEAR THE LAYTON TEMPLE! OGDEN LAYTON ESTATE SALES 
UID:1776947352
STREET-ADDRESS:See website
POSTAL-CODE:84040
LOCALITY:Layton
REGION:ABBREV=UT
COUNTRY:ABBREV=US;ABBREV=USA:United States
URL;TYPE=Event Listing:https://estatesales.org/estate-sales/ut/layton/84040/great-liquidation-near-the-layton-2410960
PRIORITY:1
CLASS:PUBLIC
SEQUENCE:0
STATUS:CONFIRMED
TRANSP:OPAQUE
END:VEVENT
END:VCALENDAR
