BEGIN:VCALENDAR
VERSION:2.0
METHOD:PUBLISH
BEGIN:VEVENT
DTSTART:20251108T130000Z
DTEND:20251108T190000Z
LOCATION:Clearwater, FL 33765
TRANSP: OPAQUE
SEQUENCE:0
UID:
DTSTAMP:20260423T094744Z
SUMMARY:Baby Boomers Clearwater Estate Sales Raintree Village
DESCRIPTION:Baby Boomers Clearwater Estate Sales Raintree Village Baby Boomers Estate Sales 
UID:1776959264
STREET-ADDRESS:See website
POSTAL-CODE:33765
LOCALITY:Clearwater
REGION:ABBREV=FL
COUNTRY:ABBREV=US;ABBREV=USA:United States
URL;TYPE=Event Listing:https://estatesales.org/estate-sales/fl/clearwater/33765/baby-boomers-clearwater-estate-sales-2411106
PRIORITY:1
CLASS:PUBLIC
SEQUENCE:0
STATUS:CONFIRMED
TRANSP:OPAQUE
END:VEVENT
END:VCALENDAR
