BEGIN:VCALENDAR
VERSION:2.0
METHOD:PUBLISH
BEGIN:VEVENT
DTSTART:20241108T160000Z
DTEND:20241110T230000Z
LOCATION:Riverside, CA 92506
TRANSP: OPAQUE
SEQUENCE:0
UID:
DTSTAMP:20260419T223742Z
SUMMARY:Huge Riverside Sale in The Woodcrest Area Featuring Furniture, Crystal, Silver, China, Women’s Clothing and Much More!
DESCRIPTION:Huge Riverside Sale in The Woodcrest Area Featuring Furniture, Crystal, Silver, China, Women’s Clothing and Much More! Estate Sales by Dee 
UID:1776659862
STREET-ADDRESS:See website
POSTAL-CODE:92506
LOCALITY:Riverside
REGION:ABBREV=CA
COUNTRY:ABBREV=US;ABBREV=USA:United States
URL;TYPE=Event Listing:https://estatesales.org/estate-sales/ca/riverside/92506/huge-riverside-sale-in-the-2348783
PRIORITY:1
CLASS:PUBLIC
SEQUENCE:0
STATUS:CONFIRMED
TRANSP:OPAQUE
END:VEVENT
END:VCALENDAR
