BEGIN:VCALENDAR
VERSION:2.0
METHOD:PUBLISH
BEGIN:VEVENT
DTSTART:20241108T130000Z
DTEND:20241110T200000Z
LOCATION:Alma, AR 72921
TRANSP: OPAQUE
SEQUENCE:0
UID:
DTSTAMP:20260420T181225Z
SUMMARY:Alma Estate Sale
DESCRIPTION:Alma Estate Sale Crouch Estate Sales 
UID:1776730345
STREET-ADDRESS:See website
POSTAL-CODE:72921
LOCALITY:Alma
REGION:ABBREV=AR
COUNTRY:ABBREV=US;ABBREV=USA:United States
URL;TYPE=Event Listing:https://estatesales.org/estate-sales/ar/alma/72921/alma-estate-sale-2347471
PRIORITY:1
CLASS:PUBLIC
SEQUENCE:0
STATUS:CONFIRMED
TRANSP:OPAQUE
END:VEVENT
END:VCALENDAR
