BEGIN:VCALENDAR
VERSION:2.0
METHOD:PUBLISH
BEGIN:VEVENT
DTSTART:20241108T160000Z
DTEND:20241109T220000Z
LOCATION:Palm Springs, CA 92262
TRANSP: OPAQUE
SEQUENCE:0
UID:
DTSTAMP:20260421T092630Z
SUMMARY:Palm Springs Estate Sales
DESCRIPTION:Palm Springs Estate Sales Palm Springs Estate Sales 
UID:1776785190
STREET-ADDRESS:See website
POSTAL-CODE:92262
LOCALITY:Palm Springs
REGION:ABBREV=CA
COUNTRY:ABBREV=US;ABBREV=USA:United States
URL;TYPE=Event Listing:https://estatesales.org/estate-sales/ca/palm-springs-/92262/palm-springs-estate-sales-2348158
PRIORITY:1
CLASS:PUBLIC
SEQUENCE:0
STATUS:CONFIRMED
TRANSP:OPAQUE
END:VEVENT
END:VCALENDAR
