BEGIN:VCALENDAR
VERSION:2.0
METHOD:PUBLISH
BEGIN:VEVENT
DTSTART:20241108T150000Z
DTEND:20241109T200000Z
LOCATION:Phoenix, AZ 85032
TRANSP: OPAQUE
SEQUENCE:0
UID:
DTSTAMP:20260425T101200Z
SUMMARY:Phoenix Estate Sale
DESCRIPTION:Phoenix Estate Sale Fresh Start Estate Sales LLC 
UID:1777133520
STREET-ADDRESS:See website
POSTAL-CODE:85032
LOCALITY:Phoenix
REGION:ABBREV=AZ
COUNTRY:ABBREV=US;ABBREV=USA:United States
URL;TYPE=Event Listing:https://estatesales.org/estate-sales/az/phoenix/85032/phoenix-estate-sale-2344908
PRIORITY:1
CLASS:PUBLIC
SEQUENCE:0
STATUS:CONFIRMED
TRANSP:OPAQUE
END:VEVENT
END:VCALENDAR
