BEGIN:VCALENDAR
VERSION:2.0
METHOD:PUBLISH
BEGIN:VEVENT
DTSTART:20191108T160000Z
DTEND:20191109T220000Z
LOCATION:Bellevue, WA 98006
TRANSP: OPAQUE
SEQUENCE:0
UID:
DTSTAMP:20260421T124127Z
SUMMARY:Bellevue - Contemporary Furnishings, Housewares, Toys, and Much More!
DESCRIPTION:Bellevue - Contemporary Furnishings, Housewares, Toys, and Much More! Caring Transitions of Issaquah/Bellevue 
UID:1776796887
STREET-ADDRESS:See website
POSTAL-CODE:98006
LOCALITY:Bellevue
REGION:ABBREV=WA
COUNTRY:ABBREV=US;ABBREV=USA:United States
URL;TYPE=Event Listing:https://estatesales.org/estate-sales/wa/bellevue/98006/50-off-saturday-bellevue-contemporary-1731069
PRIORITY:1
CLASS:PUBLIC
SEQUENCE:0
STATUS:CONFIRMED
TRANSP:OPAQUE
END:VEVENT
END:VCALENDAR
