BEGIN:VCALENDAR
VERSION:2.0
METHOD:PUBLISH
BEGIN:VEVENT
DTSTART:20131108T140000Z
DTEND:20131109T200000Z
LOCATION:Wareham, MA 02571
TRANSP: OPAQUE
SEQUENCE:0
UID:
DTSTAMP:20260420T012553Z
SUMMARY:Waterfront Home of Fine Furnishings, Antiques & Collectibles
DESCRIPTION:Waterfront Home of Fine Furnishings, Antiques & Collectibles Estate Sales Professionals of Cape Cod 
UID:1776669953
STREET-ADDRESS:See website
POSTAL-CODE:02571
LOCALITY:Wareham
REGION:ABBREV=MA
COUNTRY:ABBREV=US;ABBREV=USA:United States
URL;TYPE=Event Listing:https://estatesales.org/estate-sales/ma/wareham/02571/waterfront-home-of-fine-furnishings-340456
PRIORITY:1
CLASS:PUBLIC
SEQUENCE:0
STATUS:CONFIRMED
TRANSP:OPAQUE
END:VEVENT
END:VCALENDAR
