BEGIN:VCALENDAR
VERSION:2.0
METHOD:PUBLISH
BEGIN:VEVENT
DTSTART:20131108T140000Z
DTEND:20131109T200000Z
LOCATION:Columbus, OH 43229
TRANSP: OPAQUE
SEQUENCE:0
UID:
DTSTAMP:20260421T223151Z
SUMMARY:Everything but the Kitchen Sink Large Sharon Woods Estate Sale-50% off all day Saturday! Antiques, Collectibles and High End Clothing and lots of it!!
DESCRIPTION:Everything but the Kitchen Sink Large Sharon Woods Estate Sale-50% off all day Saturday! Antiques, Collectibles and High End Clothing and lots of it!! Tag Sales by DeeDee 
UID:1776832311
STREET-ADDRESS:See website
POSTAL-CODE:43229
LOCALITY:Columbus
REGION:ABBREV=OH
COUNTRY:ABBREV=US;ABBREV=USA:United States
URL;TYPE=Event Listing:https://estatesales.org/estate-sales/oh/columbus/43229/everything-but-the-kitchen-sink-339783
PRIORITY:1
CLASS:PUBLIC
SEQUENCE:0
STATUS:CONFIRMED
TRANSP:OPAQUE
END:VEVENT
END:VCALENDAR
