BEGIN:VCALENDAR
VERSION:2.0
METHOD:PUBLISH
BEGIN:VEVENT
DTSTART:20251107T143000Z
DTEND:20251108T200000Z
LOCATION:Westfield, NJ 07090
TRANSP: OPAQUE
SEQUENCE:0
UID:
DTSTAMP:20260421T091748Z
SUMMARY:Westfield, NJ 11/7 & 11/8
DESCRIPTION:Westfield, NJ 11/7 & 11/8 Pink Lady Liquidation 
UID:1776784668
STREET-ADDRESS:See website
POSTAL-CODE:07090
LOCALITY:Westfield
REGION:ABBREV=NJ
COUNTRY:ABBREV=US;ABBREV=USA:United States
URL;TYPE=Event Listing:https://estatesales.org/estate-sales/nj/westfield/07090/westfield-nj-117-118-2408974
PRIORITY:1
CLASS:PUBLIC
SEQUENCE:0
STATUS:CONFIRMED
TRANSP:OPAQUE
END:VEVENT
END:VCALENDAR
