BEGIN:VCALENDAR
VERSION:2.0
METHOD:PUBLISH
BEGIN:VEVENT
DTSTART:20251107T150000Z
DTEND:20251108T210000Z
LOCATION:Kaukauna, WI 54130
TRANSP: OPAQUE
SEQUENCE:0
UID:
DTSTAMP:20260424T213714Z
SUMMARY:Kaukauna estate sale by the Estate Sale Squad,Friday Nov 7;9AM-4PM,Saturday Nov 8; 9AM-3PM
DESCRIPTION:Kaukauna estate sale by the Estate Sale Squad,Friday Nov 7;9AM-4PM,Saturday Nov 8; 9AM-3PM Estate Sale Squad LLC 
UID:1777088234
STREET-ADDRESS:See website
POSTAL-CODE:54130
LOCALITY:Kaukauna
REGION:ABBREV=WI
COUNTRY:ABBREV=US;ABBREV=USA:United States
URL;TYPE=Event Listing:https://estatesales.org/estate-sales/wi/kaukauna/54130/kaukauna-estate-sale-by-the-2410893
PRIORITY:1
CLASS:PUBLIC
SEQUENCE:0
STATUS:CONFIRMED
TRANSP:OPAQUE
END:VEVENT
END:VCALENDAR
