BEGIN:VCALENDAR
VERSION:2.0
METHOD:PUBLISH
BEGIN:VEVENT
DTSTART:20251107T150000Z
DTEND:20251108T200000Z
LOCATION:Scottsdale, AZ 85258
TRANSP: OPAQUE
SEQUENCE:0
UID:
DTSTAMP:20260425T094600Z
SUMMARY:Scottsdale Estate Sale Extravaganza
DESCRIPTION:Scottsdale Estate Sale Extravaganza Fresh Start Estate Sales LLC 
UID:1777131960
STREET-ADDRESS:See website
POSTAL-CODE:85258
LOCALITY:Scottsdale
REGION:ABBREV=AZ
COUNTRY:ABBREV=US;ABBREV=USA:United States
URL;TYPE=Event Listing:https://estatesales.org/estate-sales/az/scottsdale/85258/scottsdale-estate-sale-extravaganza-2411045
PRIORITY:1
CLASS:PUBLIC
SEQUENCE:0
STATUS:CONFIRMED
TRANSP:OPAQUE
END:VEVENT
END:VCALENDAR
