BEGIN:VCALENDAR
VERSION:2.0
METHOD:PUBLISH
BEGIN:VEVENT
DTSTART:20241107T170000Z
DTEND:20241109T233000Z
LOCATION:Bakersfield, CA 93301
TRANSP: OPAQUE
SEQUENCE:0
UID:
DTSTAMP:20260422T062332Z
SUMMARY:POP UP SALE. Royal palms
DESCRIPTION:POP UP SALE. Royal palms All About You Liquidation 
UID:1776860612
STREET-ADDRESS:See website
POSTAL-CODE:93301
LOCALITY:Bakersfield
REGION:ABBREV=CA
COUNTRY:ABBREV=US;ABBREV=USA:United States
URL;TYPE=Event Listing:https://estatesales.org/estate-sales/ca/bakersfield/93301/pop-up-sale-royal-palms-2348777
PRIORITY:1
CLASS:PUBLIC
SEQUENCE:0
STATUS:CONFIRMED
TRANSP:OPAQUE
END:VEVENT
END:VCALENDAR
