BEGIN:VCALENDAR
VERSION:2.0
METHOD:PUBLISH
BEGIN:VEVENT
DTSTART:20251106T160000Z
DTEND:20251108T200000Z
LOCATION:Lawrence, KS 66047
TRANSP: OPAQUE
SEQUENCE:0
UID:
DTSTAMP:20260419T082703Z
SUMMARY:Lawrence beauty Caring Transitions
DESCRIPTION:Lawrence beauty Caring Transitions Caring Transitions Kansas City 
UID:1776608823
STREET-ADDRESS:See website
POSTAL-CODE:66047
LOCALITY:Lawrence
REGION:ABBREV=KS
COUNTRY:ABBREV=US;ABBREV=USA:United States
URL;TYPE=Event Listing:https://estatesales.org/estate-sales/ks/lawrence/66047/lawrence-beauty-caring-transitions-2410977
PRIORITY:1
CLASS:PUBLIC
SEQUENCE:0
STATUS:CONFIRMED
TRANSP:OPAQUE
END:VEVENT
END:VCALENDAR
