BEGIN:VCALENDAR
VERSION:2.0
METHOD:PUBLISH
BEGIN:VEVENT
DTSTART:20251106T180000Z
DTEND:20251110T000000Z
LOCATION:Santa Rosa, CA 95403
TRANSP: OPAQUE
SEQUENCE:0
UID:
DTSTAMP:20260419T103058Z
SUMMARY:Gypsy Girl Antiques Vintage Christmas Pop-Up
DESCRIPTION:Gypsy Girl Antiques Vintage Christmas Pop-Up
UID:1776616258
STREET-ADDRESS:See website
POSTAL-CODE:95403
LOCALITY:Santa Rosa
REGION:ABBREV=CA
COUNTRY:ABBREV=US;ABBREV=USA:United States
URL;TYPE=Event Listing:https://estatesales.org/estate-sales/ca/santa-rosa/95403/gypsy-girl-antiques-vintage-christmas-2410459
PRIORITY:1
CLASS:PUBLIC
SEQUENCE:0
STATUS:CONFIRMED
TRANSP:OPAQUE
END:VEVENT
END:VCALENDAR
