BEGIN:VCALENDAR
VERSION:2.0
METHOD:PUBLISH
BEGIN:VEVENT
DTSTART:20251106T150000Z
DTEND:20251108T170000Z
LOCATION:Pamplico, SC 29583
TRANSP: OPAQUE
SEQUENCE:0
UID:
DTSTAMP:20260423T162905Z
SUMMARY:Estate Sale On West Second Ave in Pamplico
DESCRIPTION:Estate Sale On West Second Ave in Pamplico Bouldin Estate Sales 
UID:1776983345
STREET-ADDRESS:See website
POSTAL-CODE:29583
LOCALITY:Pamplico
REGION:ABBREV=SC
COUNTRY:ABBREV=US;ABBREV=USA:United States
URL;TYPE=Event Listing:https://estatesales.org/estate-sales/sc/pamplico/29583/estate-sale-on-west-second-2410961
PRIORITY:1
CLASS:PUBLIC
SEQUENCE:0
STATUS:CONFIRMED
TRANSP:OPAQUE
END:VEVENT
END:VCALENDAR
