BEGIN:VCALENDAR
VERSION:2.0
METHOD:PUBLISH
BEGIN:VEVENT
DTSTART:20251106T160000Z
DTEND:20251106T200000Z
LOCATION:Norman, OK 73072
TRANSP: OPAQUE
SEQUENCE:0
UID:
DTSTAMP:20260425T113015Z
SUMMARY:ONE DAY ESTATE SALE
DESCRIPTION:ONE DAY ESTATE SALE Vincent Estate Sales 
UID:1777138215
STREET-ADDRESS:See website
POSTAL-CODE:73072
LOCALITY:Norman
REGION:ABBREV=OK
COUNTRY:ABBREV=US;ABBREV=USA:United States
URL;TYPE=Event Listing:https://estatesales.org/estate-sales/ok/norman-/73072/one-day-estate-sale-2410716
PRIORITY:1
CLASS:PUBLIC
SEQUENCE:0
STATUS:CONFIRMED
TRANSP:OPAQUE
END:VEVENT
END:VCALENDAR
