BEGIN:VCALENDAR
VERSION:2.0
METHOD:PUBLISH
BEGIN:VEVENT
DTSTART:20251106T160000Z
DTEND:20251110T000000Z
LOCATION:Lindsay, CA 93247
TRANSP: OPAQUE
SEQUENCE:0
UID:
DTSTAMP:20260422T045948Z
SUMMARY:The Great Unveiling: A Time Capsule Estate Sale
DESCRIPTION:The Great Unveiling: A Time Capsule Estate Sale Golden Estate Sales 
UID:1776855588
STREET-ADDRESS:See website
POSTAL-CODE:93247
LOCALITY:Lindsay
REGION:ABBREV=CA
COUNTRY:ABBREV=US;ABBREV=USA:United States
URL;TYPE=Event Listing:https://estatesales.org/estate-sales/ca/lindsay/93247/the-great-unveiling-a-time-2409650
PRIORITY:1
CLASS:PUBLIC
SEQUENCE:0
STATUS:CONFIRMED
TRANSP:OPAQUE
END:VEVENT
END:VCALENDAR
