BEGIN:VCALENDAR
VERSION:2.0
METHOD:PUBLISH
BEGIN:VEVENT
DTSTART:20151106T180000Z
DTEND:20151108T190000Z
LOCATION:East Hampton, NY 11937
TRANSP: OPAQUE
SEQUENCE:0
UID:
DTSTAMP:20260423T224644Z
SUMMARY:FULL CONTENTS OF METICULOUS CONDO 
DESCRIPTION:FULL CONTENTS OF METICULOUS CONDO  re.luxeHamptons 
UID:1777006004
STREET-ADDRESS:See website
POSTAL-CODE:11937
LOCALITY:East Hampton
REGION:ABBREV=NY
COUNTRY:ABBREV=US;ABBREV=USA:United States
URL;TYPE=Event Listing:https://estatesales.org/estate-sales/ny/east-hampton/11937/full-contents-of-meticulous-condo-717277
PRIORITY:1
CLASS:PUBLIC
SEQUENCE:0
STATUS:CONFIRMED
TRANSP:OPAQUE
END:VEVENT
END:VCALENDAR
