BEGIN:VCALENDAR
VERSION:2.0
METHOD:PUBLISH
BEGIN:VEVENT
DTSTART:20231105T232500Z
DTEND:20231217T045900Z
LOCATION:Hot Springs, NC 28743
TRANSP: OPAQUE
SEQUENCE:0
UID:
DTSTAMP:20260421T024659Z
SUMMARY:WINTER CONSIGNMENT AUCTION
DESCRIPTION:WINTER CONSIGNMENT AUCTION Edward Johnson Auctioneers Inc 
UID:1776761219
STREET-ADDRESS:See website
POSTAL-CODE:28743
LOCALITY:Hot Springs
REGION:ABBREV=NC
COUNTRY:ABBREV=US;ABBREV=USA:United States
URL;TYPE=Event Listing:https://estatesales.org/estate-sales/nc/hot-springs/28743/winter-consignment-auction-2253117
PRIORITY:1
CLASS:PUBLIC
SEQUENCE:0
STATUS:CONFIRMED
TRANSP:OPAQUE
END:VEVENT
END:VCALENDAR
