BEGIN:VCALENDAR
VERSION:2.0
METHOD:PUBLISH
BEGIN:VEVENT
DTSTART:20221105T140000Z
DTEND:20221106T200000Z
LOCATION:Stoneham, MA 02180
TRANSP: OPAQUE
SEQUENCE:0
UID:
DTSTAMP:20260425T084409Z
SUMMARY:"Snapshot in Time" Estate Sale.
DESCRIPTION:"Snapshot in Time" Estate Sale. Curious Cat Estate Sales LLC 
UID:1777128249
STREET-ADDRESS:See website
POSTAL-CODE:02180
LOCALITY:Stoneham
REGION:ABBREV=MA
COUNTRY:ABBREV=US;ABBREV=USA:United States
URL;TYPE=Event Listing:https://estatesales.org/estate-sales/ma/stoneham/02180/snapshot-in-time-estate-sale-2108229
PRIORITY:1
CLASS:PUBLIC
SEQUENCE:0
STATUS:CONFIRMED
TRANSP:OPAQUE
END:VEVENT
END:VCALENDAR
