BEGIN:VCALENDAR
VERSION:2.0
METHOD:PUBLISH
BEGIN:VEVENT
DTSTART:20221105T160000Z
DTEND:20221106T230000Z
LOCATION:Beverly Hills, CA 90211
TRANSP: OPAQUE
SEQUENCE:0
UID:
DTSTAMP:20260420T044041Z
SUMMARY: Beverly Hills DISCOUNT SUNDAY EXTRAVAGANZA Estate Honey..... Stop the car!!!!!
DESCRIPTION: Beverly Hills DISCOUNT SUNDAY EXTRAVAGANZA Estate Honey..... Stop the car!!!!! Hidden Treasure Estate Sales 
UID:1776681641
STREET-ADDRESS:See website
POSTAL-CODE:90211
LOCALITY:Beverly Hills
REGION:ABBREV=CA
COUNTRY:ABBREV=US;ABBREV=USA:United States
URL;TYPE=Event Listing:https://estatesales.org/estate-sales/ca/beverly-hills/90211/beverly-hills-discount-sunday-extravaganza-2115191
PRIORITY:1
CLASS:PUBLIC
SEQUENCE:0
STATUS:CONFIRMED
TRANSP:OPAQUE
END:VEVENT
END:VCALENDAR
