BEGIN:VCALENDAR
VERSION:2.0
METHOD:PUBLISH
BEGIN:VEVENT
DTSTART:20211105T160000Z
DTEND:20211106T210000Z
LOCATION:Cypress, CA 90630
TRANSP: OPAQUE
SEQUENCE:0
UID:
DTSTAMP:20260420T172947Z
SUMMARY:Most items 1/2 off - Cypress Whole House Mixed Estate Sale
DESCRIPTION:Most items 1/2 off - Cypress Whole House Mixed Estate Sale Pointe Estate Specialists 
UID:1776727787
STREET-ADDRESS:See website
POSTAL-CODE:90630
LOCALITY:Cypress
REGION:ABBREV=CA
COUNTRY:ABBREV=US;ABBREV=USA:United States
URL;TYPE=Event Listing:https://estatesales.org/estate-sales/ca/cypress/90630/most-items-12-off-cypress-1977523
PRIORITY:1
CLASS:PUBLIC
SEQUENCE:0
STATUS:CONFIRMED
TRANSP:OPAQUE
END:VEVENT
END:VCALENDAR
