BEGIN:VCALENDAR
VERSION:2.0
METHOD:PUBLISH
BEGIN:VEVENT
DTSTART:20161105T140000Z
DTEND:20161106T200000Z
LOCATION:Wauconda, IL 60084
TRANSP: OPAQUE
SEQUENCE:0
UID:
DTSTAMP:20260425T203356Z
SUMMARY:WAUCONDA MOTEL attached house garage and all rooms filled with items! 
DESCRIPTION:WAUCONDA MOTEL attached house garage and all rooms filled with items!  A Moment In Time Estate Sales,INC 
UID:1777170836
STREET-ADDRESS:See website
POSTAL-CODE:60084
LOCALITY:Wauconda
REGION:ABBREV=IL
COUNTRY:ABBREV=US;ABBREV=USA:United States
URL;TYPE=Event Listing:https://estatesales.org/estate-sales/il/wauconda/60084/wauconda-motel-attached-house-garage-997595
PRIORITY:1
CLASS:PUBLIC
SEQUENCE:0
STATUS:CONFIRMED
TRANSP:OPAQUE
END:VEVENT
END:VCALENDAR
