BEGIN:VCALENDAR
VERSION:2.0
METHOD:PUBLISH
BEGIN:VEVENT
DTSTART:20221104T140000Z
DTEND:20221105T190000Z
LOCATION:Fort Washington, MD 20744
TRANSP: OPAQUE
SEQUENCE:0
UID:
DTSTAMP:20260419T140725Z
SUMMARY:Fabulous Fall National Harbor Estate Sale
DESCRIPTION:Fabulous Fall National Harbor Estate Sale Caring Transitions of Greater Washington, DC 
UID:1776629245
STREET-ADDRESS:See website
POSTAL-CODE:20744
LOCALITY:Fort Washington
REGION:ABBREV=MD
COUNTRY:ABBREV=US;ABBREV=USA:United States
URL;TYPE=Event Listing:https://estatesales.org/estate-sales/md/fort-washington/20744/fabulous-fall-national-harbor-estate-2106799
PRIORITY:1
CLASS:PUBLIC
SEQUENCE:0
STATUS:CONFIRMED
TRANSP:OPAQUE
END:VEVENT
END:VCALENDAR
