BEGIN:VCALENDAR
VERSION:2.0
METHOD:PUBLISH
BEGIN:VEVENT
DTSTART:20161104T130000Z
DTEND:20161105T210000Z
LOCATION:Flushing, MI 48433
TRANSP: OPAQUE
SEQUENCE:0
UID:
DTSTAMP:20260421T140254Z
SUMMARY:Fantastic Flushing Sale by R and S
DESCRIPTION:Fantastic Flushing Sale by R and S Another Estate Sale By R and S 
UID:1776801774
STREET-ADDRESS:See website
POSTAL-CODE:48433
LOCALITY:Flushing
REGION:ABBREV=MI
COUNTRY:ABBREV=US;ABBREV=USA:United States
URL;TYPE=Event Listing:https://estatesales.org/estate-sales/mi/flushing/48433/fantastic-flushing-sale-by-r-995617
PRIORITY:1
CLASS:PUBLIC
SEQUENCE:0
STATUS:CONFIRMED
TRANSP:OPAQUE
END:VEVENT
END:VCALENDAR
