BEGIN:VCALENDAR
VERSION:2.0
METHOD:PUBLISH
BEGIN:VEVENT
DTSTART:20161104T130000Z
DTEND:20161105T200000Z
LOCATION:Monroe, CT 06468
TRANSP: OPAQUE
SEQUENCE:0
UID:
DTSTAMP:20260424T115732Z
SUMMARY:Monroe Gigantic Whole House Estate Sale 
DESCRIPTION:Monroe Gigantic Whole House Estate Sale  A Golden Grasshopper Estate Sales 
UID:1777053452
STREET-ADDRESS:See website
POSTAL-CODE:06468
LOCALITY:Monroe
REGION:ABBREV=CT
COUNTRY:ABBREV=US;ABBREV=USA:United States
URL;TYPE=Event Listing:https://estatesales.org/estate-sales/ct/monroe/06468/monroe-gigantic-whole-house-estate-1019879
PRIORITY:1
CLASS:PUBLIC
SEQUENCE:0
STATUS:CONFIRMED
TRANSP:OPAQUE
END:VEVENT
END:VCALENDAR
