BEGIN:VCALENDAR
VERSION:2.0
METHOD:PUBLISH
BEGIN:VEVENT
DTSTART:20181103T120000Z
DTEND:20181104T200000Z
LOCATION:Perryville, MO 63775
TRANSP: OPAQUE
SEQUENCE:0
UID:
DTSTAMP:20260419T170105Z
SUMMARY:Nice Downsizing/Moving Sale
DESCRIPTION:Nice Downsizing/Moving Sale Lizzy Lou Estate Sales, LLC 
UID:1776639665
STREET-ADDRESS:See website
POSTAL-CODE:63775
LOCALITY:Perryville
REGION:ABBREV=MO
COUNTRY:ABBREV=US;ABBREV=USA:United States
URL;TYPE=Event Listing:https://estatesales.org/estate-sales/mo/perryville/63775/nice-downsizingmoving-sale-1582587
PRIORITY:1
CLASS:PUBLIC
SEQUENCE:0
STATUS:CONFIRMED
TRANSP:OPAQUE
END:VEVENT
END:VCALENDAR
