BEGIN:VCALENDAR
VERSION:2.0
METHOD:PUBLISH
BEGIN:VEVENT
DTSTART:20181103T220000Z
DTEND:20181104T000000Z
LOCATION:Hartsdale, NY 10530
TRANSP: OPAQUE
SEQUENCE:0
UID:
DTSTAMP:20260424T071845Z
SUMMARY:Box Lots, Fill-a-bag & Make an offer Sale - 2 Hour Blowout Sale
DESCRIPTION:Box Lots, Fill-a-bag & Make an offer Sale - 2 Hour Blowout Sale Stephanie's Storage Sale 
UID:1777036725
STREET-ADDRESS:See website
POSTAL-CODE:10530
LOCALITY:Hartsdale
REGION:ABBREV=NY
COUNTRY:ABBREV=US;ABBREV=USA:United States
URL;TYPE=Event Listing:https://estatesales.org/estate-sales/ny/hartsdale/10530/box-lots-fillabag-make-an-1590861
PRIORITY:1
CLASS:PUBLIC
SEQUENCE:0
STATUS:CONFIRMED
TRANSP:OPAQUE
END:VEVENT
END:VCALENDAR
