BEGIN:VCALENDAR
VERSION:2.0
METHOD:PUBLISH
BEGIN:VEVENT
DTSTART:20161103T150000Z
DTEND:20161105T230000Z
LOCATION:Colorado Springs, CO 80904
TRANSP: OPAQUE
SEQUENCE:0
UID:
DTSTAMP:20260420T203935Z
SUMMARY:Wonderful Paradise Valley Estate Sale
DESCRIPTION:Wonderful Paradise Valley Estate Sale Que Linda Trading Co 
UID:1776739175
STREET-ADDRESS:See website
POSTAL-CODE:80904
LOCALITY:Colorado Springs
REGION:ABBREV=CO
COUNTRY:ABBREV=US;ABBREV=USA:United States
URL;TYPE=Event Listing:https://estatesales.org/estate-sales/co/colorado-springs/80904/wonderful-paradise-valley-estate-sale-1020255
PRIORITY:1
CLASS:PUBLIC
SEQUENCE:0
STATUS:CONFIRMED
TRANSP:OPAQUE
END:VEVENT
END:VCALENDAR
