BEGIN:VCALENDAR
VERSION:2.0
METHOD:PUBLISH
BEGIN:VEVENT
DTSTART:20161103T190000Z
DTEND:20161105T200000Z
LOCATION:New York, NY 10162
TRANSP: OPAQUE
SEQUENCE:0
UID:
DTSTAMP:20260423T224643Z
SUMMARY:NYC Tribeca Loft Sale
DESCRIPTION:NYC Tribeca Loft Sale re.luxeHamptons 
UID:1777006003
STREET-ADDRESS:See website
POSTAL-CODE:10162
LOCALITY:New York
REGION:ABBREV=NY
COUNTRY:ABBREV=US;ABBREV=USA:United States
URL;TYPE=Event Listing:https://estatesales.org/estate-sales/ny/new-york/10162/nyc-tribeca-loft-sale-1022533
PRIORITY:1
CLASS:PUBLIC
SEQUENCE:0
STATUS:CONFIRMED
TRANSP:OPAQUE
END:VEVENT
END:VCALENDAR
