BEGIN:VCALENDAR
VERSION:2.0
METHOD:PUBLISH
BEGIN:VEVENT
DTSTART:20241102T130000Z
DTEND:20241103T200000Z
LOCATION:Tampa, FL 33624
TRANSP: OPAQUE
SEQUENCE:0
UID:
DTSTAMP:20260422T123309Z
SUMMARY:Sweet Suite, Personal Selections PLUS LAST CHANCE ART SALE
DESCRIPTION:Sweet Suite, Personal Selections PLUS LAST CHANCE ART SALE S D Bowman Estate Sales, LLC 
UID:1776882789
STREET-ADDRESS:See website
POSTAL-CODE:33624
LOCALITY:Tampa
REGION:ABBREV=FL
COUNTRY:ABBREV=US;ABBREV=USA:United States
URL;TYPE=Event Listing:https://estatesales.org/estate-sales/fl/tampa/33624/sweet-suite-personal-selections-plus-2347962
PRIORITY:1
CLASS:PUBLIC
SEQUENCE:0
STATUS:CONFIRMED
TRANSP:OPAQUE
END:VEVENT
END:VCALENDAR
