BEGIN:VCALENDAR
VERSION:2.0
METHOD:PUBLISH
BEGIN:VEVENT
DTSTART:20241102T130000Z
DTEND:20241102T190000Z
LOCATION:Newton, MA 02466
TRANSP: OPAQUE
SEQUENCE:0
UID:
DTSTAMP:20260419T122033Z
SUMMARY:Sweet Auburndale Estate Sale. Saturday November 2. Sale two of two. Same time, same street.
DESCRIPTION:Sweet Auburndale Estate Sale. Saturday November 2. Sale two of two. Same time, same street. Estate Sale Specialists, LLC 
UID:1776622833
STREET-ADDRESS:See website
POSTAL-CODE:02466
LOCALITY:Newton
REGION:ABBREV=MA
COUNTRY:ABBREV=US;ABBREV=USA:United States
URL;TYPE=Event Listing:https://estatesales.org/estate-sales/ma/newton/02466/sweet-auburndale-estate-sale-saturday-2345442
PRIORITY:1
CLASS:PUBLIC
SEQUENCE:0
STATUS:CONFIRMED
TRANSP:OPAQUE
END:VEVENT
END:VCALENDAR
