BEGIN:VCALENDAR
VERSION:2.0
METHOD:PUBLISH
BEGIN:VEVENT
DTSTART:20231102T140000Z
DTEND:20231104T190000Z
LOCATION:Ixonia, WI 53036
TRANSP: OPAQUE
SEQUENCE:0
UID:
DTSTAMP:20260420T005358Z
SUMMARY:Large Estate Sale - Ixonia
DESCRIPTION:Large Estate Sale - Ixonia
UID:1776668038
STREET-ADDRESS:See website
POSTAL-CODE:53036
LOCALITY:Ixonia
REGION:ABBREV=WI
COUNTRY:ABBREV=US;ABBREV=USA:United States
URL;TYPE=Event Listing:https://estatesales.org/estate-sales/wi/ixonia/53036/large-estate-sale-ixonia-2249909
PRIORITY:1
CLASS:PUBLIC
SEQUENCE:0
STATUS:CONFIRMED
TRANSP:OPAQUE
END:VEVENT
END:VCALENDAR
