BEGIN:VCALENDAR
VERSION:2.0
METHOD:PUBLISH
BEGIN:VEVENT
DTSTART:20131102T120000Z
DTEND:20131103T210000Z
LOCATION:Apex, NC 27539
TRANSP: OPAQUE
SEQUENCE:0
UID:
DTSTAMP:20260419T082559Z
SUMMARY:ESTATE TAG SALE
DESCRIPTION:ESTATE TAG SALE Steve Minor Estate Liquidations and Appraisals 
UID:1776608759
STREET-ADDRESS:See website
POSTAL-CODE:27539
LOCALITY:Apex
REGION:ABBREV=NC
COUNTRY:ABBREV=US;ABBREV=USA:United States
URL;TYPE=Event Listing:https://estatesales.org/estate-sales/nc/apex/27539/estate-tag-sale-338069
PRIORITY:1
CLASS:PUBLIC
SEQUENCE:0
STATUS:CONFIRMED
TRANSP:OPAQUE
END:VEVENT
END:VCALENDAR
