BEGIN:VCALENDAR
VERSION:2.0
METHOD:PUBLISH
BEGIN:VEVENT
DTSTART:20251101T170000Z
DTEND:20251103T000000Z
LOCATION:Daly City, CA 94014
TRANSP: OPAQUE
SEQUENCE:0
UID:
DTSTAMP:20260419T054018Z
SUMMARY:2 DAY MYSTERY FLASH ESTATE SALE!
DESCRIPTION:2 DAY MYSTERY FLASH ESTATE SALE! Timeless Selection 
UID:1776598818
STREET-ADDRESS:See website
POSTAL-CODE:94014
LOCALITY:Daly City
REGION:ABBREV=CA
COUNTRY:ABBREV=US;ABBREV=USA:United States
URL;TYPE=Event Listing:https://estatesales.org/estate-sales/ca/daly-city/94014/2-day-mystery-flash-estate-2410346
PRIORITY:1
CLASS:PUBLIC
SEQUENCE:0
STATUS:CONFIRMED
TRANSP:OPAQUE
END:VEVENT
END:VCALENDAR
