BEGIN:VCALENDAR
VERSION:2.0
METHOD:PUBLISH
BEGIN:VEVENT
DTSTART:20251101T160000Z
DTEND:20251102T230000Z
LOCATION:Los Angeles, CA 90024
TRANSP: OPAQUE
SEQUENCE:0
UID:
DTSTAMP:20260420T045411Z
SUMMARY:HOLMBY HILLS EXTRAVAGANT ESTATE SALE ( FINAL DAY)
DESCRIPTION:HOLMBY HILLS EXTRAVAGANT ESTATE SALE ( FINAL DAY) Hidden Treasure Estate Sales 
UID:1776682451
STREET-ADDRESS:See website
POSTAL-CODE:90024
LOCALITY:Los Angeles
REGION:ABBREV=CA
COUNTRY:ABBREV=US;ABBREV=USA:United States
URL;TYPE=Event Listing:https://estatesales.org/estate-sales/ca/los-angeles/90024/holmby-hills-extravagant-estate-sale-2407396
PRIORITY:1
CLASS:PUBLIC
SEQUENCE:0
STATUS:CONFIRMED
TRANSP:OPAQUE
END:VEVENT
END:VCALENDAR
