BEGIN:VCALENDAR
VERSION:2.0
METHOD:PUBLISH
BEGIN:VEVENT
DTSTART:20251101T160000Z
DTEND:20251101T190000Z
LOCATION:Chatsworth, CA 91311
TRANSP: OPAQUE
SEQUENCE:0
UID:
DTSTAMP:20260420T162631Z
SUMMARY:"Flash Sale" – 1 Day Only | Furniture, Home Decor, Wall Arts, Glassware, Clothes, TV's & More!
DESCRIPTION:"Flash Sale" – 1 Day Only | Furniture, Home Decor, Wall Arts, Glassware, Clothes, TV's & More! Caring Transitions of Santa Clarita & San Fernando Valley 
UID:1776723991
STREET-ADDRESS:See website
POSTAL-CODE:91311
LOCALITY:Chatsworth
REGION:ABBREV=CA
COUNTRY:ABBREV=US;ABBREV=USA:United States
URL;TYPE=Event Listing:https://estatesales.org/estate-sales/ca/chatsworth/91311/flash-sale-1-day-only-2408957
PRIORITY:1
CLASS:PUBLIC
SEQUENCE:0
STATUS:CONFIRMED
TRANSP:OPAQUE
END:VEVENT
END:VCALENDAR
