BEGIN:VCALENDAR
VERSION:2.0
METHOD:PUBLISH
BEGIN:VEVENT
DTSTART:20251101T200000Z
DTEND:20251102T000000Z
LOCATION:Fresno, CA 93704
TRANSP: OPAQUE
SEQUENCE:0
UID:
DTSTAMP:20260422T031433Z
SUMMARY:Nov. 1 - Estate Warehouse Sale in Fresno. 1pm to 4pm. 1 Day Only
DESCRIPTION:Nov. 1 - Estate Warehouse Sale in Fresno. 1pm to 4pm. 1 Day Only Leftover Treasures 
UID:1776849273
STREET-ADDRESS:See website
POSTAL-CODE:93704
LOCALITY:Fresno
REGION:ABBREV=CA
COUNTRY:ABBREV=US;ABBREV=USA:United States
URL;TYPE=Event Listing:https://estatesales.org/estate-sales/ca/fresno/93704/nov-1-estate-warehouse-sale-2410314
PRIORITY:1
CLASS:PUBLIC
SEQUENCE:0
STATUS:CONFIRMED
TRANSP:OPAQUE
END:VEVENT
END:VCALENDAR
