BEGIN:VCALENDAR
VERSION:2.0
METHOD:PUBLISH
BEGIN:VEVENT
DTSTART:20191101T150000Z
DTEND:20191102T190000Z
LOCATION:Merrillville, IN 46410
TRANSP: OPAQUE
SEQUENCE:0
UID:
DTSTAMP:20260419T082558Z
SUMMARY:Jerrold & Stacy Gaza, 7 Lawn Mowers,Cabinets, Households
DESCRIPTION:Jerrold & Stacy Gaza, 7 Lawn Mowers,Cabinets, Households Auction & Estates by Diana Cook 
UID:1776608758
STREET-ADDRESS:See website
POSTAL-CODE:46410
LOCALITY:Merrillville
REGION:ABBREV=IN
COUNTRY:ABBREV=US;ABBREV=USA:United States
URL;TYPE=Event Listing:https://estatesales.org/estate-sales/in/merrillville/46410/jerrold-stacy-gaza-7-lawn-1709377
PRIORITY:1
CLASS:PUBLIC
SEQUENCE:0
STATUS:CONFIRMED
TRANSP:OPAQUE
END:VEVENT
END:VCALENDAR
