BEGIN:VCALENDAR
VERSION:2.0
METHOD:PUBLISH
BEGIN:VEVENT
DTSTART:20191101T140000Z
DTEND:20191103T220000Z
LOCATION:Owensboro, KY 42301
TRANSP: OPAQUE
SEQUENCE:0
UID:
DTSTAMP:20260424T121831Z
SUMMARY:Estate -Downsizing Sale for 3 families
DESCRIPTION:Estate -Downsizing Sale for 3 families Spay A Stray. 
UID:1777054711
STREET-ADDRESS:See website
POSTAL-CODE:42301
LOCALITY:Owensboro
REGION:ABBREV=KY
COUNTRY:ABBREV=US;ABBREV=USA:United States
URL;TYPE=Event Listing:https://estatesales.org/estate-sales/ky/owensboro/42301/estate-downsizing-sale-for-3-1735309
PRIORITY:1
CLASS:PUBLIC
SEQUENCE:0
STATUS:CONFIRMED
TRANSP:OPAQUE
END:VEVENT
END:VCALENDAR
