BEGIN:VCALENDAR
VERSION:2.0
METHOD:PUBLISH
BEGIN:VEVENT
DTSTART:20191101T140000Z
DTEND:20191102T210000Z
LOCATION:Bossier City, LA 71111
TRANSP: OPAQUE
SEQUENCE:0
UID:
DTSTAMP:20260421T032516Z
SUMMARY:THE GREAT ESCAPE TO THE PERFECT PLACE ESTATE SALE *DESIGNER NAME BRAND CLOTHING, FURNITURE, MODERN HOME DECOR, NWT TREASURES, CHRISTMAS & MORE
DESCRIPTION:THE GREAT ESCAPE TO THE PERFECT PLACE ESTATE SALE *DESIGNER NAME BRAND CLOTHING, FURNITURE, MODERN HOME DECOR, NWT TREASURES, CHRISTMAS & MORE Antique Hustle Estate Sales 
UID:1776763516
STREET-ADDRESS:See website
POSTAL-CODE:71111
LOCALITY:Bossier City
REGION:ABBREV=LA
COUNTRY:ABBREV=US;ABBREV=USA:United States
URL;TYPE=Event Listing:https://estatesales.org/estate-sales/la/bossier-city/71111/the-great-escape-to-the-1734741
PRIORITY:1
CLASS:PUBLIC
SEQUENCE:0
STATUS:CONFIRMED
TRANSP:OPAQUE
END:VEVENT
END:VCALENDAR
