BEGIN:VCALENDAR
VERSION:2.0
METHOD:PUBLISH
BEGIN:VEVENT
DTSTART:20191101T130000Z
DTEND:20191102T180000Z
LOCATION:Salisbury, NC 28147
TRANSP: OPAQUE
SEQUENCE:0
UID:
DTSTAMP:20260420T204538Z
SUMMARY:50 year Accumulation!!  Estate Sale  Furniture,  Glassware, Old Toys , Fishing tackle
DESCRIPTION:50 year Accumulation!!  Estate Sale  Furniture,  Glassware, Old Toys , Fishing tackle PARKER AUCTIONS 
UID:1776739538
STREET-ADDRESS:See website
POSTAL-CODE:28147
LOCALITY:Salisbury
REGION:ABBREV=NC
COUNTRY:ABBREV=US;ABBREV=USA:United States
URL;TYPE=Event Listing:https://estatesales.org/estate-sales/nc/salisbury/28147/50-year-accumulation-estate-sale-1733341
PRIORITY:1
CLASS:PUBLIC
SEQUENCE:0
STATUS:CONFIRMED
TRANSP:OPAQUE
END:VEVENT
END:VCALENDAR
