BEGIN:VCALENDAR
VERSION:2.0
METHOD:PUBLISH
BEGIN:VEVENT
DTSTART:20161101T140000Z
DTEND:20161101T150000Z
LOCATION:By appointment only.
TRANSP: OPAQUE
SEQUENCE:0
UID:
DTSTAMP:20260425T103619Z
SUMMARY:ESTATE SALE AND MANY FREE ITEMS (Danielsville)
DESCRIPTION:ESTATE SALE AND MANY FREE ITEMS (Danielsville) Transitioning America 
UID:1777134979
STREET-ADDRESS:See website
POSTAL-CODE:30633
LOCALITY:Danielsville
REGION:ABBREV=GA
COUNTRY:ABBREV=US;ABBREV=USA:United States
URL;TYPE=Event Listing:https://estatesales.org/estate-sales/ga/danielsville/30633/estate-sale-and-many-free-1020865
PRIORITY:1
CLASS:PUBLIC
SEQUENCE:0
STATUS:CONFIRMED
TRANSP:OPAQUE
END:VEVENT
END:VCALENDAR
